BEGIN:VCALENDAR
PRODID:-//AT Content Types//AT Event//EN
VERSION:1.0
BEGIN:VEVENT
DTSTART:20250326T230000Z
DTEND:20250326T230000Z
DCREATED:20240930T080745Z
UID:ATEvent-22207e78cf0647d98e965c2750536e86
SEQUENCE:0
LAST-MODIFIED:20240930T080749Z
SUMMARY:Repas partage
PRIORITY:3
TRANSP:0
END:VEVENT
END:VCALENDAR
