BEGIN:VCALENDAR
PRODID:-//AT Content Types//AT Event//EN
VERSION:2.0
METHOD:PUBLISH
BEGIN:VEVENT
DTSTAMP:20260421T083933Z
CREATED:20220221T102813Z
UID:ATEvent-79e5309a1a664090b5823239ba824ab8
LAST-MODIFIED:20220221T102819Z
SUMMARY:Lundi de Pentecôte
DTSTART:20220605T220000Z
DTEND:20220605T220000Z
CLASS:PUBLIC
END:VEVENT
END:VCALENDAR
