BEGIN:VCALENDAR
PRODID:-//AT Content Types//AT Event//EN
VERSION:1.0
BEGIN:VEVENT
DTSTART:20260320T071500Z
DTEND:20260320T170000Z
DCREATED:20260303T171522Z
UID:ATEvent-f7fb3fc0660b4639a230033274e8c1e2
SEQUENCE:0
LAST-MODIFIED:20260303T171527Z
SUMMARY:Journée pédagogique Collège
DESCRIPTION:Pas de class pour les collégiens
PRIORITY:3
TRANSP:0
END:VEVENT
END:VCALENDAR
