BEGIN:VCALENDAR
PRODID:-//AT Content Types//AT Event//EN
VERSION:1.0
BEGIN:VEVENT
DTSTART:20230526T220000Z
DTEND:20230526T220000Z
DCREATED:20230209T165839Z
UID:ATEvent-2b3e026834f5423a9cf106295c7e40c7
SEQUENCE:0
LAST-MODIFIED:20230209T165844Z
SUMMARY:Examen Cambridge  -  PET- KET
PRIORITY:3
TRANSP:0
END:VEVENT
END:VCALENDAR
