BEGIN:VCALENDAR
PRODID:-//AT Content Types//AT Event//EN
VERSION:1.0
BEGIN:VEVENT
DTSTART:20230401T083000Z
DTEND:20230401T093000Z
DCREATED:20230209T170657Z
UID:ATEvent-c8bdfdc5f7f54e669f5f474beadfa51e
SEQUENCE:0
LAST-MODIFIED:20230209T170701Z
SUMMARY:Baptêmes primaire
PRIORITY:3
TRANSP:0
END:VEVENT
END:VCALENDAR
