BEGIN:VCALENDAR
PRODID:-//AT Content Types//AT Event//EN
VERSION:2.0
METHOD:PUBLISH
BEGIN:VEVENT
DTSTAMP:20260421T082739Z
CREATED:20260303T170640Z
UID:ATEvent-63bedcfa5a7b42f5b6bbac864bd3470c
LAST-MODIFIED:20260303T170644Z
SUMMARY:Baptême des élèves du primaire
DTSTART:20260307T093000Z
DTEND:20260307T150000Z
CLASS:PUBLIC
END:VEVENT
END:VCALENDAR
